BEGIN:VCALENDAR
VERSION:2.0
PRODID:-//hacksw/handcal//NONSGML v1.0//EN
CALSCALE:GREGORIAN
BEGIN:VEVENT
DTEND:20250601T180000
UID:69e9a9049cc75
DTSTAMP:20260423T070716
LOCATION:Gelsenkirchener Str. 181\, 45309 Essen
DESCRIPTION:Bücher, Werbespots, Plakate, Apps, Websites und andere Arbeiten aus dem Bereich Kommunikationsdesign – mehr als 300 analoge und digitale Exponate zeigt das Red Dot Design Museum ab dem 21. Februar 2025 in Essen. Alle in der Ausstellung präsentierten Arbeiten wurden im Rahmen des internationalen Designwettbewerbs „Red Dot Award: Brands & Communication Design 2024“ ausgezeichnet. Ein Highlight der Ausstellung ist die Präsentation der Red Dot: Agency of the Year 2024 in der White Hall des Museums. PepsiCo Design and Innovation, die hauseigene Kreativabteilung von PepsiCo, gibt hier einen Einblick in ihre Markenwelt. Die Agentur des Jahres ist bekannt für ihre ausgefallenen Projekte und Gestaltungen rund um Brands wie Lay’s, Doritos, Cheetos, Gatorade und Pepsi.
URL;VALUE=URI:
SUMMARY:World’s Best Communication Design 2024 and Highlights from NRW
DTSTART:20250221T080000
END:VEVENT
END:VCALENDAR