BEGIN:VCALENDAR
VERSION:2.0
PRODID:-//hacksw/handcal//NONSGML v1.0//EN
CALSCALE:GREGORIAN
BEGIN:VEVENT
DTEND:20250831T180000
UID:69ea55c7294c5
DTSTAMP:20260423T192423
LOCATION:Ständehausstraße 1\, 40217 Düsseldorf
DESCRIPTION:Als erste deutsche Institution zeigt die Kunstsammlung Nordrhein-Westfalen das wegweisende Werk der 1948 in Tel Aviv geborenen Malerin, Psychoanalytikerin, Philosophin und Friedensaktivistin Bracha Lichtenberg Ettinger (BRACHA). In kleinen Ölgemälden, die in unbewussten Malprozessen über Zeiträume von bis zu acht Jahren entstehen, verwandelt BRACHA fotografische Zeugnisse, unter anderem von Gewalt gegen Frauen und Kinder während der Shoa, in Abbilder innerer Zustände, die sich über die Jahrzehnte hinweg sichtbar verändern. Im Zentrum der Ausstellung stehen zwölf neueste Malereien, die teils erstmals das Atelier verlassen. Mit über 80 Arbeiten, darunter auch Einblicke ins Frühwerk der 1980er Jahre, wird in der Bel Etage des K21 ein einzigartiger Kunstentwurf anschaulich. Er verbindet Psychoanalyse und Malerei, ein feministisches Neudenken von Identität und Geschlechterverhältnissen, radikale Verletzlichkeit und die Hoffnung auf einen friedlichen Umgang mit Konflikten und vererbten Traumata.
URL;VALUE=URI:
SUMMARY:Bracha Lichtenberg Ettinger
DTSTART:20250222T080000
END:VEVENT
END:VCALENDAR