BEGIN:VCALENDAR
VERSION:2.0
PRODID:-//hacksw/handcal//NONSGML v1.0//EN
CALSCALE:GREGORIAN
BEGIN:VEVENT
DTEND:20230827T180000
UID:69ea39ece76b0
DTSTAMP:20260423T172532
LOCATION:Philosophenweg 55\, 47051 Duisburg
DESCRIPTION:Norbert Kricke hat der Kunst nach 1945 wegweisende Impulse vermittelt. Bis heute haben seine Werke nichts an Dynamik verloren. In diesem Jahr wäre der Künstler und ehemalige Rektor der Düsseldorfer Kunstakademie 100 Jahre alt geworden. Aus diesem Anlass ehrt das Museum Küppersmühle in Kooperation mit dem Freundeskreis Norbert Kricke e.V. den Künstler mit der Sondersausstellung „Bewegung im Raum“, die ab dem 18. November im Obergeschoss des MKM-Neubaus präsentiert wird.\n\n\nRund 40 Raumplastiken aus drei Jahrzehnten werden zu sehen sein. Ein besonderer Akzent liegt dabei auf dem Spätwerk der Jahre 1975–1984. Gezeigt werden darüber hinaus grafische Arbeiten bis hin zu seinen letzten Zeichnungen, den einzigartigen „Schlussstrichen”.\n\nWährend Krickes erste Arbeiten in den 1940er-Jahren noch die Formsprache der klassischen figurativen Skulpturen beinhalten, fand der Künstler – im Geiste des Informel stehend – ab den 1950er-Jahren im filigranen, biegsamen Drahtgestell schnell sein eigentliches plastisches Gestaltungsmittel, dem er fortan künstlerisch treu bleiben sollte. Seine radikale Abwendung vom klassischen Skulpturenbegriff war geprägt von seinem Interesse an der Darstellung von Raum und Zeit. So postuliert er 1954: „Mein Problem ist nicht Masse, ist nicht Figur, sondern es ist der Raum und es ist die Bewegung – Raum und Zeit.“\n\n\nAnstatt durch kompakte Massenvolumen aus Materialien wie Marmor, Stein und Bronze eine geschlossene Oberfläche auszubilden und damit den Raum zu verdrängen, strebte Norbert Kricke nach einer künstlerischen Einheit von Skulptur, Raum und Bewegung, und zwar nicht als Abbild des Realen, sondern als ein primäres Erlebnis. So sind die Linien, die gebündelt, gebogen, überlagernd den bildnerischen Raum erkunden, ihm gegenüber stets offen. Sie bieten dem Besucher bei jeder Annährung an Krickes „Raumplastiken“ aufs Neue Konfrontations- und Erlebnismöglichkeiten, sowohl visuell als auch konzeptuell.
URL;VALUE=URI:
SUMMARY:Norbert Kricke – Bewegung im Raum
DTSTART:20221118T080000
END:VEVENT
END:VCALENDAR