BEGIN:VCALENDAR
VERSION:2.0
PRODID:-//hacksw/handcal//NONSGML v1.0//EN
CALSCALE:GREGORIAN
BEGIN:VEVENT
DTEND:20260426T180000
UID:69ed4e8bd51c9
DTSTAMP:20260426T013019
LOCATION:Im Krausfeld 10\, 53111 Bonn
DESCRIPTION:
URL;VALUE=URI:
SUMMARY:Frauenbewegungen 1865 _ 1971 _ 2017
DTSTART:20260426T080000
END:VEVENT
END:VCALENDAR