BEGIN:VCALENDAR
VERSION:2.0
PRODID:-//hacksw/handcal//NONSGML v1.0//EN
CALSCALE:GREGORIAN
BEGIN:VEVENT
DTEND:20230212T180000
UID:69ea23bc968ab
DTSTAMP:20260423T155052
LOCATION:Heinrich-Böll-Platz\, 50667 Köln
DESCRIPTION:Frank Bowling (*1934 in Bartica, Guyana) wird am 15. November 2022 mit dem Wolfgang-Hahn-Preis 2022 der Gesellschaft für Moderne Kunst ausgezeichnet.\n\nDie Preisverleihung ist wie stets mit einem Ankauf für die Sammlung des Museum Ludwig verbunden. Im Rahmen des Wolfgang-Hahn-Preis 2022 gelingt der Gesellschaft für Moderne Kunst dank der Großzügigkeit des Künstlers die erste Erwerbung für eine öffentliche Sammlung in Deutschland. Frank Bowlings Gemälde Flogging the Dead Donkey (2020) wird Teil der Sammlung des Museum Ludwig.\n\nDer Titel des Werks ist ein ironisches Statement des Künstlers über seine Beschäftigung mit abstrakter Malerei. Bowlings Interesse an Abstraktion begann 1966 während seiner frühen Jahre in New York, als er den Werken von Ad Reinhardt, Barnett Newman, Clyfford Still, Marcia Hafif und Mark Rothko begegnete, die alle mit monochromer Malerei und ihren Varianten experimentierten. Die Gesamtkomposition von Bowlings Gemälde ist eine Hommage an frühere Generationen von Koloristen und veranschaulicht seine kontinuierliche Auseinandersetzung mit der monochromen Malerei. Mit der Komplexität der Oberflächentexturen und der außergewöhnlichen Intensität der Rottöne sowie dem subtilen Aufblitzen weiterer Farben und Resten von Goldpigmenten, veranschaulicht dieses Spätwerk seine Maxime, dass „die Möglichkeiten der Farbe unendlich sind“.\n\nFlogging the Dead Donkey wird vom 16. November 2022 bis zum 12. Februar 2023 in einer Präsentation im Museum Ludwig gezeigt. Vorgestellt wird zudem die von Frank Bowling aus einem Druck der Abtropfkante des angekauften Bildes entwickelte Edition. Archivalien und Zitate umreißen Bowlings vielfältige Beschäftigung mit der Kunst als Künstler und Autor. Ein Film seines Sohnes Sacha Bowling kombiniert Foto- und Filmmaterial aus seiner gesamten künstlerischen Laufbahn mit einem jüngeren Interview zwischen dem Autor und Kritiker Mel Gooding und Frank Bowling.
URL;VALUE=URI:
SUMMARY:Wolfgang-Hahn-Preis 2022: Frank Bowling
DTSTART:20221116T080000
END:VEVENT
END:VCALENDAR