BEGIN:VCALENDAR
VERSION:2.0
PRODID:-//hacksw/handcal//NONSGML v1.0//EN
CALSCALE:GREGORIAN
BEGIN:VEVENT
DTEND:20230212T180000
UID:69ead2c57d017
DTSTAMP:20260424T041741
LOCATION:Burgplatz 30\, 40213 Düsseldorf
DESCRIPTION:Das SchifffahrtMuseum, Burgplatz 30, präsentiert vom 17. Dezember 2022 bis 12. Februar 2023 in der ersten Etage des Schlossturmes die Themenschau "Die Jacht: Prestige und Luxus auf dem Rhein". Sie zeigt die Entwicklung der Luxusjachten, die von circa 1650 bis um 1800 auf dem Rhein fuhren.\n\nLuxusjachten gehen in Düsseldorf nicht erst zur "boot" vor Anker. Schon in früheren Jahrhunderten waren die teuersten Repräsentationsschiffe vor der Stadtfront zu sehen. Niederländische Werften entwickelten Anfang des 17. Jahrhunderts einen neuen Schiffstyp als Prestigeobjekt. Der höchste Adel wetteiferte, mit einem solchen Kunstwerk seine Stellung deutlich sichtbar vorzuführen.\n\nAuch der barocke Kurfürst Johann Wilhelm ließ in Düsseldorf illustre Gäste seine Jachten bewundern. Die "Statsjachten" wurden zu einem Exportschlager der niederländischen Werften, die Abnehmer an allen großen europäischen Fürstenhöfen fand.\n
URL;VALUE=URI:
SUMMARY:Die Jacht – Prestige und Luxus auf dem Rhein“
DTSTART:20221217T080000
END:VEVENT
END:VCALENDAR