BEGIN:VCALENDAR
VERSION:2.0
PRODID:-//hacksw/handcal//NONSGML v1.0//EN
CALSCALE:GREGORIAN
BEGIN:VEVENT
DTEND:20221030T160000
UID:69eb433823ee0
DTSTAMP:20260424T121728
LOCATION:Burgplatz 30\, 40213 Düsseldorf
DESCRIPTION:Sieben Brücken führen in Düsseldorf über den Rhein. Schon lange bevor die erste feste Brücke hier mit stählernen Bögen den Strom überspannte, gab es bereits fliegende und schwimmende Uferverbindungen. Wie die Düsseldorfer Brücken entstanden, welche Vorgänger sie hatten und warum eine Verbindung über den Rhein so wichtig ist, wird in der Führung vorgestellt.
URL;VALUE=URI:
SUMMARY:Brückengeschichten: Öffentliche Führung
DTSTART:20221030T150000
END:VEVENT
END:VCALENDAR