BEGIN:VCALENDAR
VERSION:2.0
PRODID:-//hacksw/handcal//NONSGML v1.0//EN
CALSCALE:GREGORIAN
BEGIN:VEVENT
DTEND:20221031T180000
UID:69eb56e2adab4
DTSTAMP:20260424T134122
LOCATION:Konrad-Adenauer-Platz 8\, 51465 Bergisch Gladbach
DESCRIPTION:Das Kunstmuseum Villa Zanders präsentiert über den Sommer eine kleine, aber feine Auswahl von Werken, die in die Grafische Sammlung und in die Sammlung Kunst aus Papier Eingang gefunden haben.\n \nDie insgesamt 16 ausgestellten Werke stammen von 10 Künstlerinnen und Künstlern, unter denen so hochrangige Namen wie Georges Braque, Herbert Zangs oder Hans Hartung zu finden sind. Neuerwerbungen von Künstlerinnen und Künstlern, die sich in der zeitgenössischen Kunst profilieren wie Gesa Lange oder Karoline Bröckel, stehen für die so wichtige kontinuierliche Aktualisierung der Sammlungen.\n\nDie Neuzugänge gehen in der Ausstellung spannende Dialoge ein: Zwei Lithografien von Georges Braque, die aus Kölner Privatbesitz dem Museum als Schenkung überlassen wurden, zeigen erstaunliche Parallelen zu Werken des Künstlers, Restaurators und Sammlers Siegfried Cremer. Kraftvolle lithografierte Blätter von Hans Hartung treffen auf die durch Einschnitte rhythmisierte Papierarbeit der Bergisch Gladbacher Künstlerin Claudia Betzin. Und das lebendig strukturierte Relief aus geknülltem schwarzem Seidenpapier von K.P. Kremer findet sich in einer Entwicklungslinie mit der großen purpurfarbenen Papierarbeit von Christine Reifenberger, die der nachfolgenden Künstlergeneration angehört.\n \nTeilweise wurden die Arbeiten dem Haus von Sammlerinnen und Sammlern überlassen, teilweise von den Künstlerinnen und Künstlern direkt zum Ausbau der Bergisch Gladbacher Sammlungen geschenkt. \n \nDie Ausstellung ist in den Kabinetträumen des Erdgeschosses bis Oktober 2022 bei freiem Eintritt zugänglich.\n \nBeteiligte Künstlerinnen und Künstler:\nFrank Badur (*1944 Oranienburg, lebt in Berlin)\nClaudia Betzin (*1961 Köln, lebt in Bergisch Gladbach)\nGeorges Braque (1882 Argenteuil, Frankreich – gest. 1963 Paris, Frankreich)\nKaroline Bröckel (*1964 Tübingen, lebt in der Nähe von München)\nSiegfried Cremer (1929 Dortmund – 2015 Stuttgart)\nHans Hartung (1904 Leipzig – 1989 Antibes, Frankreich)\nK.P. Kremer (*1944 Siegburg, lebt in Siegburg)\nGesa Lange (*1972 Tongeren, Belgien, lebt in Hamburg)\nChristine Reifenberger (*1964 Waldsassen, lebt in Köln)\nHerbert Zangs (1924 Krefeld – 2003 Krefeld)\n
URL;VALUE=URI:
SUMMARY:Herzlich Willkommen! Neuerwerbungen und Schenkungen
DTSTART:20220705T080000
END:VEVENT
END:VCALENDAR