BEGIN:VCALENDAR
VERSION:2.0
PRODID:-//hacksw/handcal//NONSGML v1.0//EN
CALSCALE:GREGORIAN
BEGIN:VEVENT
DTEND:20220911T180000
UID:69ecfccdd99f4
DTSTAMP:20260425T194133
LOCATION:Wuppertaler Str. 160\, 42653 Solingen-Gräfrath
DESCRIPTION:Gemeinsam mit dem documenta archiv blickt das Zentrum für verfolgte Künste Solingen parallel zur documenta fifteen im Frühjahr und Sommer 2022 zurück auf die Anfänge der Großausstellung. Beide Institutionen stellen die Frage, welche Rolle die documenta und ihre Gründer bei den Kanonisierungsprozessen in der bildenden Kunst der Nachkriegszeit spielten.\n\nAus welchen Gründen gerieten zahlreiche Künstler:innen einer sich bis zur Machtübernahme durch die Nationalsozialisten 1933 heterogen und divers herausbildenden Gruppe nach 1945 in Vergessenheit?\n\nEin vergleichender Blick auf die Vierte Große Kunstausstellung Kassel (1929) und die erste documenta ebendort (1955), mit dem für beide Ausstellungen verantwortlichen Arnold Bode, offenbart die Bedeutung der documenta für diese Kanonisierungsprozesse: 30 Künstler:innen der Solinger Sammlung „Bürgerstiftung für verfolgte Künste“ waren auf der Ausstellung 1929 vertreten—1955 waren es nur drei. Ziel ist es, die Ausstellung von 1929 teilweise zu rekonstruieren und die Struktur des Vergessens über Statistiken, Biografien und Diagramme sichtbar werden zu lassen.\n\nGefördert durch das Ministerium für Kultur und Wissenschaft des Landes Nordrhein-Westfalen\n\nhttps://www.29-55.de/\n
URL;VALUE=URI:
SUMMARY:1929/1955. Die erste documenta und das Vergessen einer Künstler:innengeneration
DTSTART:20220506T080000
END:VEVENT
END:VCALENDAR