BEGIN:VCALENDAR
VERSION:2.0
PRODID:-//hacksw/handcal//NONSGML v1.0//EN
CALSCALE:GREGORIAN
BEGIN:VEVENT
DTEND:20260424T180000
UID:69eac09d16a8d
DTSTAMP:20260424T030013
LOCATION:Helmut-Kohl-Allee 4\, 53113 Bonn
DESCRIPTION:Das Gehirn ist eines der letzten großen Rätsel des menschlichen Körpers. Was haben wir eigentlich im Kopf, und wie stellen wir uns die Vorgänge im Gehirn vor? Ist unser Ich etwas anderes als unser Körper, und wie machen wir uns einen Reim auf die Welt um uns herum? Wie sieht das Gehirn der Zukunft aus: Werden wir zu computergestützten Cyborgs? Es bedarf der Zusammenarbeit vieler Disziplinen, um sich diesen Fragen zu nähern. Die Hirnforschung liefert uns fortwährend aktuelle Erkenntnisse, steht aber auch noch vor vielen ungelösten Fragen. Die Kunst kann dabei helfen, frei über Denken und Fühlen, Bewusstsein und Wahrnehmung, Erinnerung und Traum nachzudenken. Assoziativ verbundene Werke aus Kunst und Kulturgeschichte treffen in dieser Ausstellung auf wissenschaftliche Forschung, um das menschliche Gehirn – wie ein unbekanntes Territorium – zu erkunden und besser verstehen zu lernen.
URL;VALUE=URI:
SUMMARY:Das Gehirn in Kunst und Wissenschaft
DTSTART:20260424T080000
END:VEVENT
END:VCALENDAR