BEGIN:VCALENDAR
VERSION:2.0
PRODID:-//hacksw/handcal//NONSGML v1.0//EN
CALSCALE:GREGORIAN
BEGIN:VEVENT
DTEND:20220213T180000
UID:69eaf04e75cb4
DTSTAMP:20260424T062342
LOCATION:Hoeschplatz 1\, 52349 Düren
DESCRIPTION:Eine Ausstellung des Bereichs Bildung und Vermittlung\n\nHOESCH TALENTS ist die alljährliche Ausstellungspräsentation der Arbeiten von Kindern, Jugendlichen und Erwachsenen, die in verschiedenen Workshops und Kursen mit Künstler*innen und Expert*innen im selben Jahr in den Werkstätten des Leopold-Hoesch-Museums und des Papiermuseums Düren entstanden sind.\n\nEbenso werden Ergebnisse aus Projekten gezeigt, die mit Kindertagesstätten und Schulen sowie anderen städtischen und regionalen Institutionen realisiert werden konnten.\n\nDie diesjährige Präsentation zeigt unter anderem Druckwerke von Jugendlichen aus dem großen Sommerferien-Workshop mit Kasia Fudakowski, der im Rahmen des Kulturrucksacks NRW stattgefunden hat.\n\nDie Schülerinnen der St.-Angela Schule Düren geben Einblicke in das gemeinsame Projekt „Inside Out“, bei dem sie sich mit der Kunst und den Ausstellungen im Leopold-Hoesch-Museum auseinandergesetzt haben.\n\nArbeiten aus den Kursen der Malspezialisten und des Club 125, deren Teilnehmende sich regelmäßig in den Museen treffen, runden die Ausstellung mit aktuellen Arbeiten ab.
URL;VALUE=URI:
SUMMARY:HOESCH TALENTS 2021
DTSTART:20211212T080000
END:VEVENT
END:VCALENDAR