BEGIN:VCALENDAR
VERSION:2.0
PRODID:-//hacksw/handcal//NONSGML v1.0//EN
CALSCALE:GREGORIAN
BEGIN:VEVENT
DTEND:20220529T180000
UID:69eaffd17d53d
DTSTAMP:20260424T072953
LOCATION:Kellerstr. 16\, 53639 Königswinter
DESCRIPTION:Nicht erst seit der Romantik gilt die Nacht als eines der faszinierendsten Motive der Kunst - zahlreiche Beispiele der niederländischen Malerei aus dem 17. Jahrhundert wurden wegweisend für Bildkonzepte des 19. Jahrhunderts. Als Gegenpol zur Aufklärung erlangte die Nacht zu Beginn des 19. Jahrhunderts Kultstatus - sie symbolisiert das Geheimnisvolle, das Irrationale und Unbekannte. Sie gilt als Metapher für das Nicht-Sichtbare, sie schränkt die menschliche Sehkraft ein und überlässt den Geist der Fantasie. \n\nAls Nacht wird die Zeit zwischen Abenddämmerung und morgendlichem Sonnenaufgang bezeichnet, zwischen dem poetischen Abendläuten und den ersten frühen Sonnenstrahlen. Die Dunkelheit wird mit Ruhe und Stille assoziiert, zugleich ist sie die Zeit der finsteren Mächte und steht im Volksglauben für alles Unbekannte und Ungeordnete. Feen und Geister treiben ihr Unwesen in der Nacht und nutzen die Stunden, in denen der Mensch schläft - wer die Geister erblickt, ist verloren. Die Nacht ist aber auch die Zeit der Träume und Fantasien, sie steht für eine Zeit voller Sehnsucht und Schwärmerei und wird mit Beginn der Romantik so auch zur Zeit der Liebenden.\n\nDie Ausstellung geht dem Phänomen der Nacht mit ihren zahlreichen Facetten nach.
URL;VALUE=URI:
SUMMARY:Landschaft bei Nacht
DTSTART:20211126T080000
END:VEVENT
END:VCALENDAR