BEGIN:VCALENDAR
VERSION:2.0
PRODID:-//hacksw/handcal//NONSGML v1.0//EN
CALSCALE:GREGORIAN
BEGIN:VEVENT
DTEND:20220320T180000
UID:69e4face72a45
DTSTAMP:20260419T175454
LOCATION:Am Schloss 4\, 47551 Bedburg-Hau
DESCRIPTION:Bei den Sammlungspräsentationen zu Beuys wird ab Oktober 2021 in den Räumen zwischen Nord- und Ostturm eine Auswahl von Werken gezeigt, die nur noch punktuell dem Wechsel unterworfen ist. Für diese Präsentation wurden signifikante Objekte vor allem aus dem plastischen Werk ausgewählt, darunter die Gruppe der Hasengräber, die Holzkreuze Symbol des Leidens und Symbol der Erlösung, die Objekte "Schlitten", "Tisch mit Aggregat", "Fettecke auf schiefer Ebene", das Multiple "Ja Ja Ja Ja Ja, Nee Nee Nee Nee Nee" sowie das Schlüsselwerk "Das Schweigen von Marcel Duchamp" wird überbewertet. Das Museum kommt damit dem Wunsch nach einer langfristig angelegten Beuys-Präsentation nach.\n\nDie Ausstellung zeigt den künstlerischen Ansatz von Beuys und gibt einen Einblick in die Beuys-Sammlung der Brüder van der Grinten. Um Besucher*innen die Möglichkeit zu geben, die Werke von Beuys immer wieder neu und aus unterschiedlichen Blickwinkeln zu betrachten, werden einigen von ihnen zeitweise Arbeiten von anderen Künstler*innen gegenübergestellt, die diese Werke aufgenommen haben, um sie kritisch zu hinterfragen oder ironisch und sinnerweiternd zu kommentieren.
URL;VALUE=URI:
SUMMARY:Joseph Beuys – Werke aus der Sammlung van der Grinten. Gegenüberstellungen
DTSTART:20211024T080000
END:VEVENT
END:VCALENDAR