BEGIN:VCALENDAR
VERSION:2.0
PRODID:-//hacksw/handcal//NONSGML v1.0//EN
CALSCALE:GREGORIAN
BEGIN:VEVENT
DTEND:20220918T180000
UID:69e583645c007
DTSTAMP:20260420T033740
LOCATION:Burggraben 19\, 51429 Bergisch Gladbach
DESCRIPTION:Diese Sonderausstellung macht mobil: An 10 Stationen, verteilt auf dem gesamtem Museumsgelände, geht sie der Frage nach, was die Menschen in unserer Region bewegte und führt auf eine Reise abseits der vertrauten Besuchs-Pfade durch das Museum.\n\nUnterwegs begegnen die Besucher*innen den verschiedensten Menschen, deren Geschichten zu unserer Region gehören und sie dennoch zu anderen Orten brachten, deren Ideen und Taten Dinge, die Umgebung und unsere Gewohnheiten veränderten und unsere Leben auch heute noch berühren.\n\nAuf einem Spaziergang von Station zu Station kommen eine engagierte Kurfürstin, reiselustige Bergmänner, meisterliche Handwerker oder zielstrebige Unternehmer genauso zu Wort wie die hart arbeitende Bevölkerung, die vor rund 150 Jahren in diesem Teil des Bergischen Landes lebte, liebte und vieles bewegte.\n\nDie Sonderausstellung findet im Rahmen des Themenjahres 21/22 „Alles in Bewegung“ des Arbeitskreises Bergische Museen statt. Wissenswertes zum Thema finden Sie auch auf der Website der Bergischen Museen.
URL;VALUE=URI:
SUMMARY:Ausstellung Querfeldein – Bewegende Geschichte(n)
DTSTART:20211003T080000
END:VEVENT
END:VCALENDAR