BEGIN:VCALENDAR
VERSION:2.0
PRODID:-//hacksw/handcal//NONSGML v1.0//EN
CALSCALE:GREGORIAN
BEGIN:VEVENT
DTEND:20220301T180000
UID:69eaef7b9b52f
DTSTAMP:20260424T062011
LOCATION:Wolfstraße 41\, 53111 Bonn
DESCRIPTION:Eine Bushaltestelle aus Waschbeton einsam vor einer Wiese: Steht die Abfahrt zu neuen Abenteuern bevor oder markiert die Haltestelle doch eher deren Ende? Weit entfernt von idyllischer Postkarten-Romantik sind die Motive von Christian A. Werner, David Carreño Hansen und Sven Stolzenwald. Für ihre Abschlussarbeit in Dokumentarfotografie gehen sie 2016 bis 2018 gemeinsam auf Fotosafari.\n\nDie drei Fotografen durchstreifen das Land auf der Suche nach dem „typisch Deutschen“, das sie zugleich fasziniert und befremdet. Ob die gedeckte Kaffee-Tafel mit Mett-Brötchen oder die ausgiebige Pflege des heimischen Rasens: Das heimelige Zuhause regt zum Schmunzeln an. Auf ihrer Deutschlandreise „Heiter bis wolkig“ fangen sie mit einem Augenzwinkern Facetten der deutschen Provinz ein. Mit unverstelltem Blick zeigen sie Widersprüche und Absurditäten des Alltagslebens zwischen Husum und Donaueschingen.\n\nWie viel dieser unhinterfragten Traditionen und liebgewonnen Rituale steckt von alldem auch in uns selbst? Wir laden Sie ein, die Fotografien in unserer U-Bahngalerie zu betrachten, sich zu amüsieren und zu ergründen, wie vielfältig unser Land ist.\n\nDavid Carreño Hansen, Sven Stolzenwald und Christian A. Werner lernen sich an der Hochschule Hannover im Studiengang Dokumentarfotografie kennen. "Heiter bis wolkig" ist ihre gemeinsame Abschlussarbeit. Neben der Tätigkeit als freiberufliche Fotografen, arbeiten alle an (sozial)dokumentarischen Fotoprojekten.
URL;VALUE=URI:
SUMMARY:Aus Deutschlands Provinzen. Fotografien von Carreño Hansen\, Stolzenwald und Werner
DTSTART:20210628T080000
END:VEVENT
END:VCALENDAR