BEGIN:VCALENDAR
VERSION:2.0
PRODID:-//hacksw/handcal//NONSGML v1.0//EN
CALSCALE:GREGORIAN
BEGIN:VEVENT
DTEND:20220327T180000
UID:69e7b5e99e4b7
DTSTAMP:20260421T193745
LOCATION:Friedrich-Wilhelm-Str. 40\, 47051 Duisburg
DESCRIPTION:Unsere Beziehungen zu digitalen Geräten sind in der Zeit der Pandemie enger geworden, vielleicht sogar enger als wir es uns wünschen. Die digitale Technik hilft uns, Verbindungen zu schaffen, und sie kann wie eine Prothese an die Stelle unserer persönlichen Begegnungen treten. Sie erweitert unser Sensorium und bildet Projektionsflächen für unsere Wünsche. Die digitalen Helfer werden immer mehr auf unsere intimen menschlichen Bedürfnisse zugeschnitten. Aber lässt sich menschliche Nähe tatsächlich an eine Maschine delegieren?\n\nDie Ausstellung „Me and My Machine“ beleuchtet die Symbiose zwischen Mensch und digitaler Maschine. Sie fragt auf humorvolle und auf ernste Weise nach unserer aktuellen Beziehung zu digitalen Tools im Alltag: Wo liegen Möglichkeiten und Grenzen? Wie werden unsere Sehnsüchte befriedigt und wie zeigen sich Abhängigkeiten und Ohnmacht gegenüber Problemen unserer Gesellschaft?\n\nDie Ausstellung lädt dazu ein, gestalterische digitale Tools auszuprobieren, mit Gemälden und Installationen zu interagieren und den eigenen Körper zu befragen. Besucher*innen können sich in virtuelle Welten begeben, sie bekommen Anregungen, um sich über veränderte Gewohnheiten und über ihre Erfahrungen mit Entgrenzung und Rückkehr auszutauschen.
URL;VALUE=URI:
SUMMARY:Me and my Machine. Eine Ausstellung der Kunstvermittlung
DTSTART:20210919T080000
END:VEVENT
END:VCALENDAR