BEGIN:VCALENDAR
VERSION:2.0
PRODID:-//hacksw/handcal//NONSGML v1.0//EN
CALSCALE:GREGORIAN
BEGIN:VEVENT
DTEND:20220213T180000
UID:69ea95e102fa7
DTSTAMP:20260423T235753
LOCATION:Grabbeplatz 5\, 40213 Düsseldorf
DESCRIPTION:Die Kunstsammlung Nordrhein-Westfalen zeigt die erste umfangreiche Ausstellung in Deutschland von Lynette Yiadom-Boakye (*1977), einer in London geborenen Malerin und Schriftstellerin mit ghanaischen Wurzeln.\n\nIhr zentrales Thema ist der Mensch: Mit Öl oder Kohle und Pastellstift „porträtiert“ sie Frauen und Männer, vereinzelt ruhend, träumend, tanzend, schauend oder mit einem Gegenüber agierend. Es sind jedoch keine realen, sondern zusammengesetzte Figuren, deren Erscheinungen sich aus verschiedenen Quellen speisen. Lynette Yiadom-Boakye zeigt ausschließlich Schwarze Menschen und enthüllt damit schlaglichtartig deren weitgehendes Fehlen in den Darstellungen der europäischen Kunstgeschichte, mit der sie sich intensiv auseinandergesetzt hat.\n\nIm Kontext der Sammlung im K20 werden ihre Bilder, die sie bewusst inszeniert und in einen Dialog setzt, ebenso ein Nachdenken über das Potential der Malerei anregen wie das über weibliche und männliche Rollenbilder, über drängende Fragen von Repräsentation, Rassismus und Diversität.\n\nDie im Henkel Saal des K20 gezeigte Ausstellung ist konzipiert von Tate Britain in Kooperation mit dem Moderna Museet, Stockholm, der Kunstsammlung Nordrhein-Westfalen, Düsseldorf, und dem MUDAM Luxemburg.
URL;VALUE=URI:
SUMMARY:Lynette Yiadom-Boakye. Fliegen im Verbund mit der Nacht
DTSTART:20211016T080000
END:VEVENT
END:VCALENDAR