BEGIN:VCALENDAR
VERSION:2.0
PRODID:-//hacksw/handcal//NONSGML v1.0//EN
CALSCALE:GREGORIAN
BEGIN:VEVENT
DTEND:20220306T180000
UID:69ed63b2086ee
DTSTAMP:20260426T030034
LOCATION:Martinistraße 7\, 47229 Duisburg
DESCRIPTION:Die diesjährige Sonderausstellung widmet das Museum dem Duisburger Grafiker Heinz Kiwitz, Schüler von Karl Rössing an der Folkwangschule in Essen und sicherlich einer der bekanntesten Duisburger Künstler der „Verlorenen Generation“. Vergessen wurde er zum Glück nicht, wurden doch, wenn auch mit größeren zeitlichen Abständen, seine Holzstiche und -schnitte immer wieder in Ausstellun-gen gezeigt, da er sich insbesondere durch seine sozialkritischen und seine politischen Arbeiten gegen den Nationalsozialismus ins Gedächtnis der nachfolgenden Generation eingeschrieben hat.\nKiwitz, zeit seines kurzen Lebens – er fiel 1938 im Spanischen Bürgerkrieg – politisch engagiert, vernichtete 1933 den größten Teil seiner kritischen Blätter, so dass sich hauptsächlich seine Illu-\nstrationen zu literarischen Werken und eine eigene Bildererzählung erhalten haben. Die Ausstellung widmet sich vor allem diesen Arbeiten zu literarischen Vorlagen, beginnend mit den Linolschnitten zu „Das Bildnis des Dorian Gray“ von Oskar Wilde, die Kiwitz 1927 noch als Schüler anfertigte und die so gut wie unbekannt sind. In späteren Holzstichen und -schnitten beschäftigte er sich u.a. mit Felix Timmermans‘ Erzählung „Pallieter“ (1930) oder mit dem Drama „Don Juan und Faust“ von Christian Dietrich Grabbe (1936), zu dem wir neben den acht im Werkverzeichnis aufgenommenen Holzschnitten einen neunten, bislang unbekannten, auffinden konnten. \n\nLink zur Sonderausstellung:\nhttp://www.sandor-szombati.de/m-aktuelles.htm\n\n
URL;VALUE=URI:
SUMMARY:Lesefrüchte – Holzschnitte zur Literatur. Heinz Kiwitz 1910 – 1938
DTSTART:20210704T080000
END:VEVENT
END:VCALENDAR