BEGIN:VCALENDAR
VERSION:2.0
PRODID:-//hacksw/handcal//NONSGML v1.0//EN
CALSCALE:GREGORIAN
BEGIN:VEVENT
DTEND:20210409T110000
UID:69e85327761ac
DTSTAMP:20260422T064839
LOCATION:Colmantstraße 14 - 16\, 53115 Bonn
DESCRIPTION:Unter dem Motto „Auf Knopfdruck in die Römerzeit“ können Kinder im Alter von 6 bis 9 Jahren online in die Römerzeit eintauchen und mit anderen Kindern zusammen erleben, was sich hinter römischen Entdeckungen und Erfindungen verbirgt. Was ist ein römisches „Schiffstier“? Wofür benutzten die Römer*innen ein Stöckchen mit Schwamm? Teilnehmende treffen sich online, spielen zusammen, lösen Rätsel und stellen ein kreatives römisches Gebilde her.\n\nZum Mitmachen wird folgendes Material benötigt: Stifte (Filzstifte, Buntstifte, Bleistift), dickes Papier/Zeichenkarton (ca. A4), Schere, Schnur/Wolle (ca. 1 m), Klebestift, weißes Papier.\n\nTechnische Voraussetzung: Für den Online-Workshop benötigen die Teilnehmenden einen Computer oder Tablet mit Kamera, Mikrofon und Lautsprecher sowie eine stabile Internetverbindung. Ein Smartphone ist nicht so gut, weil es zu klein ist, um alles gut sehen zu können. \n\nVerbindliche Anmeldung per E-Mail mit Namen und Alter des Kindes an foerderkreis42@web.de erforderlich.\n\nWorkshops einzeln buchbar – bitte unter Angabe der Workshop-Nummer und einer \nE-Mail-Adresse. Denn vor Kursbeginn erhalten Sie eine E-Mail mit Ihrem persönlichen Link, quasi der Schlüssel zum Workshop-Raum.\nKosten: 5 Euro pro Workshop und Kind\n\nKontakt: E-Mail: foerderkreis42@web.de\nTel.: 0228 2070 163 (nur Do.) oder Tel.: 0228 92 97 39 33
URL;VALUE=URI:
SUMMARY:Auf Knopfdruck in die Römerzeit- Workshop 3: High-Tech auf dem Wasser - Kreuzfahrt durch die Römerzeit
DTSTART:20210409T100000
END:VEVENT
END:VCALENDAR