BEGIN:VCALENDAR
VERSION:2.0
PRODID:-//hacksw/handcal//NONSGML v1.0//EN
CALSCALE:GREGORIAN
BEGIN:VEVENT
DTEND:20210409T120000
UID:69e9753a40644
DTSTAMP:20260423T032618
LOCATION:Max Ernst Allee 1\, 50321 Brühl
DESCRIPTION:Ein kreativer Vormittag für Kinder ab 6 Jahren\n\nIn diesen digitalen Workshops werden täglich von 10-12 Uhr wechselnde kreative Ideen zuhause mit eigenem Material umgesetzt.\n\nDiese Workshops können einzeln gebucht werden.\n\nKosten pro Workshop: 5 €, ohne Material!\n\nAnmeldung erforderlich bis 5 Tage vor dem Termin: Kulturinfo Rheinland,\nT 02234 9921-555, info@kulturinfo-rheinland.de oder über die Webseite Kulturinfo Rheinland
URL;VALUE=URI:
SUMMARY:Kreative Oster-Kids
DTSTART:20210406T100000
END:VEVENT
END:VCALENDAR