BEGIN:VCALENDAR
VERSION:2.0
PRODID:-//hacksw/handcal//NONSGML v1.0//EN
CALSCALE:GREGORIAN
BEGIN:VEVENT
DTEND:20221127T180000
UID:69ea369347bc3
DTSTAMP:20260423T171115
LOCATION:Cromforder Allee 24\, 40878 Ratingen
DESCRIPTION:Geschmeidige Felle, exotische Federn oder schillernde Perlen – seit jeher waren die Menschen fasziniert von der Schönheit der Tierwelt. Trotz aller Proteste, trotz Tier- und Artenschutz: Tierische Materialien prägen noch immer aktuelle modische Trends. Die Ausstellung zeigt Originalkleidungsstücke und Accessoires aus tierischen Materialien, zum Beispiel Pelze, Federn, Perlen, Perlmutt oder Rochenhaut, darüber hinaus Bilder und Filmausschnitte aus der Zeit.\n
URL;VALUE=URI:
SUMMARY:Modische Raubzüge. Luxus\, Lust  und Leid
DTSTART:20210711T080000
END:VEVENT
END:VCALENDAR