BEGIN:VCALENDAR
VERSION:2.0
PRODID:-//hacksw/handcal//NONSGML v1.0//EN
CALSCALE:GREGORIAN
BEGIN:VEVENT
DTEND:20201108T180000
UID:69e9d03562e37
DTSTAMP:20260423T095429
LOCATION:Hochstr. 21\, 52525 Heinsberg
DESCRIPTION:Arbeiten der Workshops werden ausgestellt - junge Kunst und Nachwuchskünstler\n\nSeit mehreren Jahren bietet das Heinsberger Museum Begas Haus unter dem Sammelbegriff „Kunst Aktiv“ regelmäßig Workshops an – zu allen Kunstrichtungen, mit ausgebildeten Pädagog*innen, Kunsthandwerker*innen und auch mit Künstler*innen selbst. Viele aktive Kunststunden, in denen außergewöhnliche Objekte geschaffen wurden, die nun in einer Wechselausstellung der Öffentlichkeit präsentiert werden. Ausgestellt werden Arbeiten aus den Workshops im Rahmen des Förderprogramms Kulturrucksack NRW, der Projekte Kultur und Schule - Schulprojekte Gesamtschule Heinsberg und des letzten Projekts Rampenfieber - Junges Kulturfestival. Außerdem werden Teile der Ausstellung auch digital über die Internetseite des „Junges Kulturfestival Rampenfieber" (www.rampenfieber.eu) präsentiert.\n\nDer Eintritt in den Wechselausstellungsbereich ist kostenlos möglich.
URL;VALUE=URI:
SUMMARY:Jahresausstellung „Kunst Aktiv“ 
DTSTART:20201031T080000
END:VEVENT
END:VCALENDAR