BEGIN:VCALENDAR
VERSION:2.0
PRODID:-//hacksw/handcal//NONSGML v1.0//EN
CALSCALE:GREGORIAN
BEGIN:VEVENT
DTEND:20201031T153000
UID:69e79de065ca0
DTSTAMP:20260421T175512
LOCATION:Mühlenstr. 29\, 40200 Düsseldorf
DESCRIPTION:Wie erlebten Bewohner*innen von Oberkassel die NS-Zeit? Welche Funktion erfüllte die „Josef-Goebbels-Jugendherberge“? Was bedeutete es für das jüdische Flüchtlingskind Irene Delmont, Familie und Heimat hinter sich zu lassen? Und wie verliefen von Oberkassel aus gesehen die letzten Kriegswochen?\nGehen Sie mit der Mahn- und Gedenkstätte auf Spurensuche in Oberkassel! Anhand von Stolpersteinen, Zeitzeugenberichten und historischen Fotografien wird diesen und vielen weiteren Fragen auf den Grund gegangen.\n\nDie Spaziergänge finden auf Grund der aktuellen Situation unter anderen Bedingungen als gewöhnlich statt. Es können nur 18 Personen teilnehmen.\nBitte melden Sie sich zu den Sekretariatszeiten (Mo bis Fr 8.00 bis 16.00 Uhr) unter Tel. 0211/ 89 96205 oder nicole.merten@duesseldorf.de an.\nDer Startpunkt der rund 90-minütigen Tour wird bei der Anmeldung bekanntgegeben. Bitte bringen Sie auch einen Mund-Nasenschutz mit.
URL;VALUE=URI:
SUMMARY:Stadtspaziergang durch Oberkassel
DTSTART:20201031T140000
END:VEVENT
END:VCALENDAR