BEGIN:VCALENDAR
VERSION:2.0
PRODID:-//hacksw/handcal//NONSGML v1.0//EN
CALSCALE:GREGORIAN
BEGIN:VEVENT
DTEND:20201129T180000
UID:69ebe6b00b566
DTSTAMP:20260424T235456
LOCATION:Museumsplatz 1\, 45128 Essen
DESCRIPTION:Parallel zu Keith Haring zeigt das Museum Folkwang die Ausstellung Rettet die Liebe! Internationale Plakate gegen AIDS. Seit Bekanntwerden der HIV-Infektion in den 1980er Jahren spielt das Plakat – sei es digital oder in seiner analogen Form auf Plakatflächen im öffentlichen Raum – eine zentrale Rolle in der Präventionsarbeit. Die Schau Rettet die Liebe! versammelt rund 200 Plakate aus fünf Kontinenten und veranschaulicht ausgehend von den frühen Initiativen von Künstlergemeinschaften wie Act Up, zu der auch Keith Haring gehörte, und Gran Fury aus New York, wie unterschiedlich in den verschiedenen kulturellen und religiösen Gemeinschaften visuell und kommunikativ mit der HIV-Infektion umgegangen wurde und wird. Ergänzt wird die Ausstellung, deren Titel einer Plakatkampagne aus dem Jahr 1987 entlehnt ist, durch zahlreiche Statistiken, die die Anzahl der Betroffenen, darunter die Neuinfektionen und die Sterberate, in der jeweiligen Region visualisieren.
URL;VALUE=URI:
SUMMARY:Rettet die Liebe! Internationale Plakate gegen AIDS
DTSTART:20200821T080000
END:VEVENT
END:VCALENDAR