BEGIN:VCALENDAR
VERSION:2.0
PRODID:-//hacksw/handcal//NONSGML v1.0//EN
CALSCALE:GREGORIAN
BEGIN:VEVENT
DTEND:20260420T180000
UID:69e6663fd3595
DTSTAMP:20260420T194535
LOCATION:Am Schloss 4\, 47551 Bedburg-Hau
DESCRIPTION:Das Thema Natur ist im gegenwärtigen Kunstdiskurs hochaktuell. Die breit-gefächerte künstlerische Auseinandersetzung damit äußert sich u. a. in Wer-ken aus Naturmaterialien und Arbeiten, die direkt davon inspiriert sind – die Natur als Lehrmeisterin der Kunst.\nNatur wird heute meist als gefährdet und schutzbedürftig wahrgenommen. Gleichwohl greifen wir weiterhin in sie ein, um sie zu verändern und nach un-seren Vorstellungen und Bedürfnissen zu gestalten. Längst gibt es keine un-berührte Natur mehr. Andererseits be-steht ein Bewusstsein dafür, dass wir selbst Teil der Natur sind. Diese Ein-sicht verleiht der Auseinandersetzung mit der Natur etwas Existentielles.\nAusstellungen zeitgenössischer Kunst verhandeln das Thema meist unter Überschriften wie Environmental Art, Ecological Art oder Kunst und Klima. Darin kommt eine Sicht auf die Natur zum Ausdruck, die von den aktuellen technischen und kulturellen Entwicklun-gen geprägt ist. Daneben rückt die poe-tische Betrachtungsweise der Natur in den Hintergrund. Dennoch: Trotz aller Eingriffe und Veränderungen ist die Natur für uns stets der Inbegriff für Leben und ein Maßstab für Schönheit. Das Gefühl, in der Natur aufgehoben zu sein und von ihr getragen zu wer-den, hat nichts von seiner Anziehungskraft verloren.\nIn der Ausstellung geht es um die visuelle Poesie natürlicher und künstleri-scher Formen. Die Ausstellung versammelt ausgewählte künstlerische Positi-onen, die sich der Natur mit dezidiert künstlerischen Fragestellungen zuwen-den, um sich mit ihren Formen und Materialien sowie ihrer strukturellen Viel-falt auseinanderzusetzen. Künstler/innen sind eingeladen, ihre Werke zu prä-sentieren oder vor Ort neu zu entwickeln, darunter Giuseppe Licari, Claire Morgan, Anna-Maria Strauß und Elvira Wersche. Zur Ausstellung erscheint ein Katalog.
URL;VALUE=URI:
SUMMARY:Natura Artis Magistra Naturmaterialien in der zeitgenössischen Kunst
DTSTART:20260420T080000
END:VEVENT
END:VCALENDAR