BEGIN:VCALENDAR
VERSION:2.0
PRODID:-//hacksw/handcal//NONSGML v1.0//EN
CALSCALE:GREGORIAN
BEGIN:VEVENT
DTEND:20200216T160000
UID:69e768e90335b
DTSTAMP:20260421T140913
LOCATION:Johannes-Corputius-Platz 1\, 40749 Duisburg
DESCRIPTION:Ausstellungsführung, Stadtarchäologie Duisburg
URL;VALUE=URI:
SUMMARY:Spaziergang durch Dispargum
DTSTART:20200216T150000
END:VEVENT
END:VCALENDAR