BEGIN:VCALENDAR
VERSION:2.0
PRODID:-//hacksw/handcal//NONSGML v1.0//EN
CALSCALE:GREGORIAN
BEGIN:VEVENT
DTEND:20210418T180000
UID:69ea99037ddfc
DTSTAMP:20260424T001115
LOCATION:Ehrenhof 2\, 40479 Düsseldorf
DESCRIPTION:Mit mehr als fünfhundert Millionen Posts allein auf Instagram ist #cute einer der\nbeliebtesten Hashtags überhaupt. Was macht die Faszination des Niedlichen aus,\nwelche gesellschaftlichen Prozesse stecken dahinter und ab wann wird cuteness\nunheimlich? \n\nDie Ausstellung „#cute. Inseln der Glückseligkeit?“ widmet sich mit\nPositionen aus Gegenwartskunst, Alltagskultur, Design und populären Medien\ncuteness als einer Schlüsselästhetik der Gegenwart. Mit Fotografien, Video- und\nRauminstallationen und Skulpturen, u. a. Jonathan Monaghan, Brenda Lien, Maija\nTammi, Melissa Sixma Lingo, Ruud van Empel, Jürgen Teller und vielen mehr\nuntersucht die internationale Gruppenausstellung cuteness als eine zentrale\nVerhandlungspraktik unserer Zeit.
URL;VALUE=URI:
SUMMARY:#cute. Inseln der Glückseligkeit?
DTSTART:20201009T080000
END:VEVENT
END:VCALENDAR