BEGIN:VCALENDAR
VERSION:2.0
PRODID:-//hacksw/handcal//NONSGML v1.0//EN
CALSCALE:GREGORIAN
BEGIN:VEVENT
DTEND:20200802T180000
UID:69eb4b5f98cc0
DTSTAMP:20260424T125215
LOCATION:Grabbeplatz 5\, 40213 Düsseldorf
DESCRIPTION:Mit dieser Überblicksausstellung würdigt die Kunstsammlung Nordrhein-Westfalen das Werk einer ebenso bemerkenswerten wie radikal konsequenten Künstlerin der deutschen Nachkriegszeit. In den 1960er Jahren, zeitgleich zur amerikanischen Minimal Art und der aufkommenden Konzeptkunst, entwickelte Charlotte Posenenske (1930–1985) innerhalb von nur zwölf Jahren ein beeindruckendes Konvolut von minimalistischen Arbeiten, die ihr innovatives Verständnis von Kunst aufzeigen.\n\nMithilfe von Leihgaben aus Museen und Privatsammlungen in Nordamerika und Europa sowie aufschlussreichen Dokumentations- und Archivmaterial präsentiert die Ausstellung die einzelnen Werkphasen der Künstlerin. Ihre in kurzer Zeit vollzogene Entwicklung von der klassischen Malerei bis hin zur Installationskunst im öffentlichen Raum wird damit eindrücklich nachvollziehbar.\n\nIn einer für diese Zeit ungewöhnlichen konzeptuellen Radikalität öffnete Posenenske ihre Arbeiten für  die "Konsumenten" hrer Kunst. 1968 beendete sie in Reaktion auf die empfundene Wirkungslosigkeit künstlerischen Handelns ihre Arbeit als Künstlerin.\n\nEine Ausstellung, organisiert durch die Dia Art Foundation, New York, in Kooperation mit der Kunstsammlung Nordrhein-Westfalen, Düsseldorf. Die Ausstellung wird gefördert durch die Kunststiftung NRW.
URL;VALUE=URI:
SUMMARY:Charlotte Posenenske. Work in Progress
DTSTART:20200530T080000
END:VEVENT
END:VCALENDAR