BEGIN:VCALENDAR
VERSION:2.0
PRODID:-//hacksw/handcal//NONSGML v1.0//EN
CALSCALE:GREGORIAN
BEGIN:VEVENT
DTEND:20200223T180000
UID:69ed314d4022a
DTSTAMP:20260425T232533
LOCATION:Appellhofplatz 23-25 (EL-DE-Haus)\, 50667 Köln
DESCRIPTION:Mindestens 232.000 Säuglinge, Kinder und Jugendliche wurden aus allen Teilen Europas nach Auschwitz deportiert oder kamen dort unter unvorstellbaren Bedingungen zur Welt. Nur wenige haben überlebt. Sie tragen die Spuren des Erlittenen auf dem Körper und in ihrer Seele. In der Ausstellung werden auf großformatigen Tafeln Lebensgeschichten von Kindern und Jugendlichen erzählt, die Auschwitz überlebt haben.\n\nEine Ausstellung des Internationalen Auschwitz Komitees in Kooperation mit der Gedenkstätte Deutscher Widerstand. Eine Ausstellung von Alwin Meyer
URL;VALUE=URI:
SUMMARY:Vergiss deinen Namen nicht – Die Kinder von Auschwitz
DTSTART:20191115T080000
END:VEVENT
END:VCALENDAR