BEGIN:VCALENDAR
VERSION:2.0
PRODID:-//hacksw/handcal//NONSGML v1.0//EN
CALSCALE:GREGORIAN
BEGIN:VEVENT
DTEND:20191220T180000
UID:69e9f360b16e0
DTSTAMP:20260423T122432
LOCATION:Bismarckstr. 90\, 40210 Düsseldorf
DESCRIPTION:Romantik und Preußen? Ein Begriffspaar, das zusammenpasst? Oft wird Preußen mit den klassischen Tugenden wie Willenskraft, Pflichtbewusstsein und Stärke assoziiert. Doch spielte Preußen eine wichtige Rolle in Literatur und Architektur oder für die romantische Theoriebildung. Joseph von Eichendorff sowie E.T.A. Hoffmann waren romantische Dichter und preußische Beamte zugleich. \n\nDie von der Kulturstiftung der deutschen Vertriebenen erarbeitete Tafel-Ausstellung wirft einen Blick auf ausgewählte Aspekte der Romantik in Preußen zwischen Königsberg, Marienburg, Berlin, Köln und die Einflüsse auf die rheinische Identität. Beispiele sind die Burgen des Mittelrheins oder der Kölner Dom, die nach Jahrhunderten des Stillstands und Zerfalls nicht zuletzt mittels preußischer Initiative und Förderung in ihrem Bestand gerettet oder gar vollendet wurden. \n
URL;VALUE=URI:
SUMMARY:Romantik in Preußen – zwischen Königsberg\, Marienburg\, Berlin und Köln
DTSTART:20191115T080000
END:VEVENT
END:VCALENDAR