BEGIN:VCALENDAR
VERSION:2.0
PRODID:-//hacksw/handcal//NONSGML v1.0//EN
CALSCALE:GREGORIAN
BEGIN:VEVENT
DTEND:20190914T160000
UID:69ea64133aa84
DTSTAMP:20260423T202523
LOCATION:Markt 46\, 53721 Siegburg
DESCRIPTION:Zehn Künstler des "Projektraum Skulptur", Bonn, konzipierten einen Dialog zwischen moderner Kunst und historischen Exponaten:\nPaul Advena, Reinhard Dobat, Karin Drastik, Dr. Claudia Kaufmann, Angela Lenk, Ulrike Mitt, Karin Rahn-Hotze, Evelyn Sauer, Karin Soot-Böhmer, Judith Wohlgemuth.\n\nEintritt: 3 € \nFreier Eintritt für Mitglieder des Vereins der Freunde des Stadtmuseums e.V.\n
URL;VALUE=URI:
SUMMARY:Führung durch die Ausstellung "Face to Face. Projektraum Skulptur" 
DTSTART:20190914T150000
END:VEVENT
END:VCALENDAR