BEGIN:VCALENDAR
VERSION:2.0
PRODID:-//hacksw/handcal//NONSGML v1.0//EN
CALSCALE:GREGORIAN
BEGIN:VEVENT
DTEND:20191023T163000
UID:69e8c03e2ff27
DTSTAMP:20260422T143406
LOCATION:Colmantstraße 14 - 16\, 53115 Bonn
DESCRIPTION:Aus der Römerzeit besitzt das Museum zahlreiche besonders schöne Bernsteinartefakte, die als Grabbeigaben den Toten auf ihre letzte Reise mitgegeben wurden. Die Kinder können nach der Besichtigung aus einem Stückchen Rohbernstein von circa einem Gramm eine eigene Perle schleifen.\n\nKosten: 5 € zzgl. Museumseintritt\n\n
URL;VALUE=URI:
SUMMARY:Inklusiver Workshop: Bernstein. Der Stein\, der brennt
DTSTART:20191023T150000
END:VEVENT
END:VCALENDAR