BEGIN:VCALENDAR
VERSION:2.0
PRODID:-//hacksw/handcal//NONSGML v1.0//EN
CALSCALE:GREGORIAN
BEGIN:VEVENT
DTEND:20191107T200000
UID:69eb8b0d8d3d5
DTSTAMP:20260424T172357
LOCATION:Ritterstraße 12-14/Am Kornmarkt\, 46483 Wesel
DESCRIPTION:mit Dr. Thomas Schriefers\n\nDie Aufbaujahre nach dem Zweiten Weltkrieg waren auch im Bereich der Architektur, der Kunst und des Designs eine be­sondere Zeit. Der Kurator der Ausstellung "WORK IN PROGRESS: 100 Jahre \nBauhaus", Architekt und Ausstellungs­ macher Dr. Thomas Schriefers aus Köln, spricht zu diesem Thema. \n\nDr. Schriefers ist auch Berater und Kurator der bekann­ten Design-Sammlung Schriefers der Bergischen Universität Wuppertal, die zu den renommiertesten Design-Sammlungen NRWs gehört. Kommen  Sie mit auf eine spannende Zeitreise in Sachen Design-Aufbruch.\n
URL;VALUE=URI:
SUMMARY:Die Zeit des Aufbaus: Architektur\, Kunst und Design der Nachkriegszeit
DTSTART:20191107T190000
END:VEVENT
END:VCALENDAR