BEGIN:VCALENDAR
VERSION:2.0
PRODID:-//hacksw/handcal//NONSGML v1.0//EN
CALSCALE:GREGORIAN
BEGIN:VEVENT
DTEND:20191124T180000
UID:69ea53be9ff35
DTSTAMP:20260423T191542
LOCATION:Bilker Str. 12-14\, 40213 Düsseldorf
DESCRIPTION:Die partizipative Ausstellung präsentiert Ideen, Assoziationen und Lieblingsexponate zur "Straße der Romantik und Revolution", der Bilker Straße, mitten im Herzen der Düsseldorfer Carlstadt. \n\nZusammen mit Studierenden, Schüler*innen, Vereinsmitgliedern und weiteren Interessierten hat das Heinrich-Heine-Institut ein Panorama von Exponaten aus dem 19. Jahrhundert rund um Heinrich Heine, Clara und Robert Schumann ausgewählt. Bei dieser historischen Betrachtungsweise bleibt die Ausstellung jedoch nicht stehen. Vielmehr laden grafische Umsetzungen, neue Gedichte, Fotografien, mediale Inszenierungen und ein Projektraum ein, sich mit der Bilker Straße, ihrer Geschichte und ihren literarischen wie musikalischen Juwelen gegenwärtig zu beschäftigen. Hinter dieser Auseinandersetzung steht die Frage: "Was bedeuten Romantik und Revolution für uns heute?" \n
URL;VALUE=URI:
SUMMARY:Ideen! Zur Straße der Romantik und Revolution
DTSTART:20190915T080000
END:VEVENT
END:VCALENDAR