BEGIN:VCALENDAR
VERSION:2.0
PRODID:-//hacksw/handcal//NONSGML v1.0//EN
CALSCALE:GREGORIAN
BEGIN:VEVENT
DTEND:20190908T160000
UID:69e79df67a5c9
DTSTAMP:20260421T175534
LOCATION:Am Museum\, 47623 Kevelaer
DESCRIPTION:Keine Anmeldung erforderlich\nKosten: 5 € pro Person
URL;VALUE=URI:
SUMMARY:Öffentliche Führung durch die Ausstellung "Von Menschen und stillen Helden. Die freiwillige Feuerwehr am Niederrhein"
DTSTART:20190908T150000
END:VEVENT
END:VCALENDAR