BEGIN:VCALENDAR
VERSION:2.0
PRODID:-//hacksw/handcal//NONSGML v1.0//EN
CALSCALE:GREGORIAN
BEGIN:VEVENT
DTEND:20190901T180000
UID:69eb1745734e9
DTSTAMP:20260424T090957
LOCATION:Güntherstraße 13-15\, 47051 Duisburg-Dellviertel
DESCRIPTION:Aus Anlass des zehnjährigen Bestehens des Museum DKM wird ab Ende März auf der gesamten Wechselausstellungsfläche des Erdgeschoss erneut die Erstausstellung präsentiert. 2009 wurden Künstler ausgewählt, die lange mit der Sammlung verbunden sind und eine sehr wichtige Position in ihr einnehmen, darunter Claudia Terstappen, Yuji Takeoka, Erwin Wortelkamp, Raimund van Well, Manfred Vogel, Hannes Vogel, Patrick Hamilton und Hayato Goto. Zum ersten Mal seit seinem frühen Tod im Jahr 2017 wird Raimund van Wells größte raumgreifende Arbeit, der Baskische Brief (2005), damit wieder im Museum DKM gezeigt. Im Neubau sind mit den Miniaturen von Blinky Palermo sowie Skulpturen und Zeichnungen Ernst Hermanns ebenfalls erneut zentrale Werke der Sammlung DKM zu sehen. 
URL;VALUE=URI:
SUMMARY:Neuinstallation der Eröffnungsausstellung 2009. 10 JAHRE MUSEUM DKM
DTSTART:20190330T080000
END:VEVENT
END:VCALENDAR