BEGIN:VCALENDAR
VERSION:2.0
PRODID:-//hacksw/handcal//NONSGML v1.0//EN
CALSCALE:GREGORIAN
BEGIN:VEVENT
DTEND:20191110T180000
UID:69e7ccbcc274d
DTSTAMP:20260421T211508
LOCATION:Ehrenhof 2\, 40479 Düsseldorf
DESCRIPTION:"White Out" ist ein digitales Ausstellungsprojekt, das verschiedene Positionen zeitgenössischer und klassischer Performance Art im virtuellen Anbau des NRW-Forums erlebbar macht. Besucher bewegen sich durch einen rein virtuellen Raum, den die Künstlergruppe New Scenario konstruiert hat. Dort treffen Sie auf Performer*innen, die sich in Form von speziell gefertigten Aufnahmen von physisch stattgefundenen Performances in der virtuellen Realität bewegen. Die körperlichräumliche Begegnung zwischen Performer*in und Publikum als eine der Grunderfahrungen der Performance Art wird ersetzt durch eine digitale Quasi- Erfahrung. Die Künstler*innen thematisieren allumfassende Digitalisierungsbestrebungen unserer Zeit und loten die Frage aus, wie Virtual Reality im Kunstkontext genutzt werden kann.
URL;VALUE=URI:
SUMMARY:White Out. VR-Performance-Ausstellung
DTSTART:20190719T080000
END:VEVENT
END:VCALENDAR