BEGIN:VCALENDAR
VERSION:2.0
PRODID:-//hacksw/handcal//NONSGML v1.0//EN
CALSCALE:GREGORIAN
BEGIN:VEVENT
DTEND:20200112T180000
UID:69e7eb0d22b81
DTSTAMP:20260421T232429
LOCATION:Konrad-Adenauer-Allee 46\, 46049 Oberhausen
DESCRIPTION:„Sieh einmal hier steht er, Pfui! der Struwwelpeter!“. Viele Kinder sind mit diesem Satz, der die Geschichte vom Struwwelpeter einleitet, groß geworden. 1844 erfindet der Psychiater Dr. Heinrich Hoffmann nicht nur die Geschichte vom Jungen der sich weder Haare noch Nägel schneiden lässt, sondern erdenkt zahlreiche weitere Figuren in diesem Stil. Neben Hanns Guck-in-die-Luft prägt auch der Zappelphilipp bis heute den deutschen Sprachgebrauch. Mit seinem erzählenden Bilderbuch erschafft Hoffmann ein Werk, was geschätzt aber auch kritisiert wird und seine Leser bis heute fasziniert und zugleich erschaudern lässt. \n\nDie bildlich umgesetzte Figur, die Heinrich Hoffmann vom Struwwelpeter erschaffen hat, wird bis heute adaptiert und inspiriert seit über 150 Jahren andere Künstler zu neuen und veränderten Varianten dieses Klassikers. In der Ausstellung treffen frühe Zeichnungen auf aktuelle Struwwelpetriaden und verdeutlichen die Bandbreite und Aktualität des Themas. \n\nDie LUDWIGGALERIE widmet damit erneut einem bedeutenden Bestandteil deutscher Bilderbuch- und Illustrationsgeschichte eine umfangreiche Schau.\n\nDie Ausstellung wird gefördert vom Freundeskreis der LUDWIGGALERIE Schloss Oberhausen. Medienpartner ist WDR3\n
URL;VALUE=URI:
SUMMARY:DER STRUWWELPETER. Zappel-Philipp\, Paulinchen und Hanns Guck-in-die-Luft zwischen Faszination und Kinderschreck von Hoffmann bis Böhmermann
DTSTART:20190922T080000
END:VEVENT
END:VCALENDAR