BEGIN:VCALENDAR
VERSION:2.0
PRODID:-//hacksw/handcal//NONSGML v1.0//EN
CALSCALE:GREGORIAN
BEGIN:VEVENT
DTEND:20170528T180000
UID:69e601623372f
DTSTAMP:20260420T123514
LOCATION:Turmhof 8\, 42103 Wuppertal
DESCRIPTION:Samstag, 27. Mai, 14.30-18.30 Uhr, und Sonntag, 28. Mai, 11.15-15.15 Uhr \n\nExpressionistische Bildwerke gehen frei mit Farben und Formen um. Die Farben werden oft ungemischt und großflächig aufgetragen, die Farbpalette ist sehr kontrastreich. Die Motive sind auf markante Formelemente reduziert, die traditionelle Perspektive ist aufgelöst. Dabei wirken die Bilder fantasievoll, und die Farben sind leuchtend und kraftvoll. An diesem Wochenende orientieren wir uns an Bildern von Adolf Erbslöh und entwickeln anfangs mit einfachen Übungen, später anhand von eigenen Vorlagen neue Bildideen, Landschaften, Stadtszenen oder Stillleben.\nMit Barbara Dörfler, Bildende Künstlerin\nKosten 65 € inkl. Material\n \nAnmeldung für alle Angebote an der Museumskasse unter Tel. 0202/563-2223 oder per Email: vdh.museumspaedagogik@stadt.wuppertal.de
URL;VALUE=URI:
SUMMARY:Acrylmalkurs:  Expressive Bilderwelten
DTSTART:20170527T080000
END:VEVENT
END:VCALENDAR